BEGIN:VCALENDAR
VERSION:2.0
PRODID:-//IEK Gnosis - ECPv6.1.3//NONSGML v1.0//EN
CALSCALE:GREGORIAN
METHOD:PUBLISH
X-WR-CALNAME:IEK Gnosis
X-ORIGINAL-URL:https://iekgnosis.com
X-WR-CALDESC:Events for IEK Gnosis
REFRESH-INTERVAL;VALUE=DURATION:PT1H
X-Robots-Tag:noindex
X-PUBLISHED-TTL:PT1H
BEGIN:VTIMEZONE
TZID:Europe/Helsinki
BEGIN:DAYLIGHT
TZOFFSETFROM:+0200
TZOFFSETTO:+0300
TZNAME:EEST
DTSTART:20230326T010000
END:DAYLIGHT
BEGIN:STANDARD
TZOFFSETFROM:+0300
TZOFFSETTO:+0200
TZNAME:EET
DTSTART:20231029T010000
END:STANDARD
BEGIN:DAYLIGHT
TZOFFSETFROM:+0200
TZOFFSETTO:+0300
TZNAME:EEST
DTSTART:20240331T010000
END:DAYLIGHT
BEGIN:STANDARD
TZOFFSETFROM:+0300
TZOFFSETTO:+0200
TZNAME:EET
DTSTART:20241027T010000
END:STANDARD
END:VTIMEZONE
BEGIN:VEVENT
DTSTART;TZID=Europe/Helsinki:20231227T073000
DTEND;TZID=Europe/Helsinki:20240105T160000
DTSTAMP:20260423T015416
CREATED:20231102T135213Z
LAST-MODIFIED:20231102T135541Z
UID:7006-1703662200-1704470400@iekgnosis.com
SUMMARY:Τα Χριστούγεννα στο γνῶσις!
DESCRIPTION:http://iekgnosis.com/wp-content/uploads/2023/11/20231101-Christmas-at-gnosis-post.mp4
URL:https://iekgnosis.com/event/%cf%84%ce%b1-%cf%87%cf%81%ce%b9%cf%83%cf%84%ce%bf%cf%8d%ce%b3%ce%b5%ce%bd%ce%bd%ce%b1-%cf%83%cf%84%ce%bf-%ce%b3%ce%bd%e1%bf%b6%cf%83%ce%b9%cf%82/
LOCATION:Γνῶσις\, Αρχ. Μακαρίου 29\, Πέρα Χωρίο - Νήσου\, Λευκωσία\, 2571\, Cyprus
ATTACH;FMTTYPE=image/jpeg:https://iekgnosis.com/wp-content/uploads/2023/06/20231026-Christmas-school-01-e1698932949728.jpg
ORGANIZER;CN="%CE%93%CE%BD%E1%BF%B6%CF%83%CE%B9%CF%82":MAILTO:info@iekgnosis.com
END:VEVENT
END:VCALENDAR