BEGIN:VCALENDAR
VERSION:2.0
PRODID:-//IEK Gnosis - ECPv6.1.3//NONSGML v1.0//EN
CALSCALE:GREGORIAN
METHOD:PUBLISH
X-WR-CALNAME:IEK Gnosis
X-ORIGINAL-URL:https://iekgnosis.com
X-WR-CALDESC:Events for IEK Gnosis
REFRESH-INTERVAL;VALUE=DURATION:PT1H
X-Robots-Tag:noindex
X-PUBLISHED-TTL:PT1H
BEGIN:VTIMEZONE
TZID:UTC
BEGIN:STANDARD
TZOFFSETFROM:+0000
TZOFFSETTO:+0000
TZNAME:UTC
DTSTART:20230101T000000
END:STANDARD
END:VTIMEZONE
BEGIN:VEVENT
DTSTART;TZID=UTC:20230626T070000
DTEND;TZID=UTC:20230804T160000
DTSTAMP:20260423T005812
CREATED:20230628T100220Z
LAST-MODIFIED:20230703T095205Z
UID:5993-1687762800-1691164800@iekgnosis.com
SUMMARY:Καλοκαιρινό Εκπαιδευτικό Πρόγραμμα 2023
DESCRIPTION:Το «Γνώσις» μετά την περσινή μεγάλη επιτυχία με πολλή χαρά διοργανώνει και φέτος ένα μοναδικό καλοκαιρινό εκπαιδευτικό πρόγραμμα. Ελάτε να ζήσουμε μαζί ακόμα ένα φανταστικό καλοκαίρι γεμάτο γνώση\, διασκέδαση και αξέχαστες εμπειρίες!\n\n\n 22 253093 / 95 151900\n\n\nΚάντε την εγγραφή σας έγκαιρα!
URL:https://iekgnosis.com/event/%ce%ba%ce%b1%ce%bb%ce%bf%ce%ba%ce%b1%ce%b9%cf%81%ce%b9%ce%bd%cf%8c_%ce%b5%ce%ba%cf%80%ce%b1%ce%b9%ce%b4%ce%b5%cf%85%cf%84%ce%b9%ce%ba%cf%8c_%cf%80%cf%81%cf%8c%ce%b3%cf%81%ce%b1%ce%bc%ce%bc%ce%b1_2023/
LOCATION:Γνῶσις\, Αρχ. Μακαρίου 29\, Πέρα Χωρίο - Νήσου\, Λευκωσία\, 2571\, Cyprus
ATTACH;FMTTYPE=image/jpeg:https://iekgnosis.com/wp-content/uploads/2023/06/Kalokairino_2023_Portfolio_Thumbnail_700x450px-01.jpg
ORGANIZER;CN="%CE%93%CE%BD%E1%BF%B6%CF%83%CE%B9%CF%82":MAILTO:info@iekgnosis.com
END:VEVENT
END:VCALENDAR